BEGIN:VCALENDAR
PRODID:-//Veranstaltung//EN
VERSION:2.0
CALSCALE:GREGORIAN
BEGIN:VEVENT
DTSTART;VALUE=DATE-TIME:20250411T000000
DTEND;VALUE=DATE-TIME:20250413T235959
SUMMARY:Political Academy 2025
LOCATION:Krushevo
DESCRIPTION:KAS in cooperation with the Party Research and Analytical Center “Ljubisha Georgievski,” is organizing the Political Academy 2025 on the topic “Strengthening the Capacities of Local Self-Government” from 11 to 13 April in Krushevo.
UID:
END:VEVENT
END:VCALENDAR