BEGIN:VCALENDAR
PRODID:-//Veranstaltung//EN
VERSION:2.0
CALSCALE:GREGORIAN
BEGIN:VEVENT
DTSTART;VALUE=DATE-TIME:20250416T110000
DTEND;VALUE=DATE-TIME:20250416T235959
SUMMARY:AI x Biotech: Its Cybersecurity Implications
LOCATION:
DESCRIPTION:Die Konvergenz von KI und Biotechnologie bringt lebensrettende medizinische Innovationen hervor. Sie öffnet jedoch auch die Türen für eine neue Art von Cyber-Bedrohungen, darunter gezielter Datenmissbrauch, feindliche KI und die Manipulation biomedizinischer Forschung. Wir haben Eleonore Pauwels, Senior Fellow am Global Center on Cooperative Security, gebeten, diese Bedrohungen und mögliche Lösungen für Cybersecurity in der Bioökonomie zu analysieren. Diskutieren Sie mit der Autorin und Experten über die Ergebnisse der Studie. (Event auf Englisch)
UID:
END:VEVENT
END:VCALENDAR