BEGIN:VCALENDAR
PRODID:-//Veranstaltung//EN
VERSION:2.0
CALSCALE:GREGORIAN
BEGIN:VEVENT
DTSTART;VALUE=DATE-TIME:20250411T000000
DTEND;VALUE=DATE-TIME:20250413T235959
SUMMARY:Regionaler Studentenworkshop
LOCATION:
DESCRIPTION:Vom 11. bis 13. April 2025 organisiert die KAS in Zusammenarbeit mit der Fakultät für Maschinenbau der Ss. Cyril und Methodius Universität Skopje und der School of Civil Engineering der Aristoteles Universität Thessaloniki ein regionales Seminar für die Studenten beider Universitäten. Thema des Seminars ist „Grenzübergreifende Zusammenarbeit und Wissensaustausch zu erneuerbaren Energien: Wassermanagement und Solare Photovoltaik-Technologien“.
UID:
END:VEVENT
END:VCALENDAR