BEGIN:VCALENDAR
PRODID:-//Veranstaltung//EN
VERSION:2.0
CALSCALE:GREGORIAN
BEGIN:VEVENT
DTSTART;VALUE=DATE-TIME:20250411T000000
DTEND;VALUE=DATE-TIME:20250413T235959
SUMMARY:Regional Student Workshop
LOCATION:
DESCRIPTION:From 11th till 13th of April, the Konrad Adenauer Foundation, in cooperation with the Faculty of Mechanical Engineering of the Ss. Cyril and Methodius University in Skopje and the School of Civil Engineering of the Aristotle University of Thessaloniki, is organizing a regional seminar for students from both universities. The topic of the seminar is "Cross-border cooperation and exchange of knowledge in Renewable Energy Sources: Water management and solar photovoltaic technologies."
UID:
END:VEVENT
END:VCALENDAR