BEGIN:VCALENDAR
PRODID:-//Veranstaltung//EN
VERSION:2.0
CALSCALE:GREGORIAN
BEGIN:VEVENT
DTSTART;VALUE=DATE-TIME:20260320T160000
DTEND;VALUE=DATE-TIME:20260321T160000
SUMMARY:Heimat ist unsere Stärke: Grundlagen erfolgreicher Kommunalpolitik
LOCATION:
DESCRIPTION:N.N. stellt in diesem Seminar inhaltliche, rechtliche und organisatorische Grundlagen erfolgreicher Kommunalpolitik vor.
UID:
END:VEVENT
END:VCALENDAR