BEGIN:VCALENDAR
PRODID:-//Veranstaltung//EN
VERSION:2.0
CALSCALE:GREGORIAN
BEGIN:VEVENT
DTSTART;VALUE=DATE-TIME:20260417T160000
DTEND;VALUE=DATE-TIME:20260418T160000
SUMMARY:Im Einsatz für die Demokratie
LOCATION:
DESCRIPTION:Professor Dr. jur. Ulli Meyer, Oberbürgermeister der Stadt Sankt Ingbert, Florian Jung, Leiter Stabsstelle Kommunikation und Vereine der Stadt St. Ingbert, und Marcus Klein MdL, Parlamentarischer Geschäftsführer der CDU-Fraktion im Landtag Rheinland-Pfalz, stellen in diesem Seminar inhaltliche, rechtliche und organisatorische Grundlagen erfolgreicher Kommunalpolitik vor.
UID:
END:VEVENT
END:VCALENDAR