BEGIN:VCALENDAR
PRODID:-//Veranstaltung//EN
VERSION:2.0
CALSCALE:GREGORIAN
BEGIN:VEVENT
DTSTART;VALUE=DATE-TIME:20260424T160000
DTEND;VALUE=DATE-TIME:20260425T160000
SUMMARY:Startblock: Starke Kommunalpolitik erfolgreich gestalten
LOCATION:
DESCRIPTION:N.N. stellen in diesem Seminar inhaltliche, rechtliche und organisatorische Grundlagen erfolgreicher Kommunalpolitik vor.
UID:
END:VEVENT
END:VCALENDAR