BEGIN:VCALENDAR
PRODID:-//Veranstaltung//EN
VERSION:2.0
CALSCALE:GREGORIAN
BEGIN:VEVENT
DTSTART;VALUE=DATE-TIME:20260508T160000
DTEND;VALUE=DATE-TIME:20260509T160000
SUMMARY:Heimat ist unsere Stärke: Bauleitplanungen und Bevölkerungsschutz erfolgreich gestalten
LOCATION:Ludwigshafen am Rhein
DESCRIPTION:Professor Dr. jur. Ulli Meyer, Oberbürgermeister der Stadt St. Ingbert, und Florian Jung, Leiter Stabsstelle Kommunikation und Vereine der Stadt St. Ingbert, stellen in diesem Seminar inhaltliche, rechtliche und organisatorische Grundlagen erfolgreicher Bauleitplanung und wirksamen Bevölkerungsschutzes vor.
UID:
END:VEVENT
END:VCALENDAR