BEGIN:VCALENDAR
PRODID:-//Veranstaltung//EN
VERSION:2.0
CALSCALE:GREGORIAN
BEGIN:VEVENT
DTSTART;VALUE=DATE-TIME:20250422T000000
DTEND;VALUE=DATE-TIME:20250423T235959
SUMMARY:Stärkung der Rolle, Kapazität und Kompetenz von weiblichen Parlamentariern für 2024 - 2029
LOCATION:
DESCRIPTION:Dieser Workshop soll die Motivation, das Selbstvertrauen und die Fähigkeit von Parlamentarierinnen stärken, eine Führungsrolle in der Politik zu übernehmen. Das Programm bietet Frauen, die eine Führungsposition innehaben oder das Potenzial dazu haben, die Möglichkeit, etwas zu lernen oder ihr Wissen mit anderen zu teilen.
UID:
END:VEVENT
END:VCALENDAR