BEGIN:VCALENDAR
PRODID:-//Veranstaltung//EN
VERSION:2.0
CALSCALE:GREGORIAN
BEGIN:VEVENT
DTSTART;VALUE=DATE-TIME:20250422T000000
DTEND;VALUE=DATE-TIME:20250423T235959
SUMMARY:Strengthening the Role, Capacity and Competence of Women Parliamentarians for Period 2024 – 2029
LOCATION:
DESCRIPTION:This workshop is conducted to increase motivation, confidence, and strengthen the capacity of women parliamentarians to assume leadership in politics. The program will provide an opportunity for women who are exercising leadership or who have the potential to become leaders to learn something or share knowledge from their capacity.
UID:
END:VEVENT
END:VCALENDAR