BEGIN:VCALENDAR
PRODID:-//Veranstaltung//EN
VERSION:2.0
CALSCALE:GREGORIAN
BEGIN:VEVENT
DTSTART;VALUE=DATE-TIME:20250422T000000
DTEND;VALUE=DATE-TIME:20250423T235959
SUMMARY:Penguatan Peran, Kapasitas dan Kompetensi Anggota Parlemen Perempuan Periode  2024 – 2029
LOCATION:
DESCRIPTION:Workshop ini dibuat untuk meningkatkan motivasi, kepercayaan diri, dan memperkuat kapasitas anggota parlemen perempuan untuk mengemban kepemimpinan dalam politik. Program ini akan memberikan kesempatan bagi perempuan yang menjalankan kepemimpinan atau yang berpotensi menjadi pemimpin untuk belajar sesuatu atau berbagi pengetahuan dari kapasitas mereka.
UID:
END:VEVENT
END:VCALENDAR