BEGIN:VCALENDAR
PRODID:-//Veranstaltung//EN
VERSION:2.0
CALSCALE:GREGORIAN
BEGIN:VEVENT
DTSTART;VALUE=DATE-TIME:20260529T160000
DTEND;VALUE=DATE-TIME:20260530T160000
SUMMARY:Heimat ist unsere Stärke: Grundlagen erfolgreicher Kommunalpolitik
LOCATION:
DESCRIPTION:Teilnahmegebühren: 160 Euro (beinhaltet das Seminarprogramm mit Verpflegung und Übernachtungen im Einzelzimmer), 130 Euro (beinhaltet das Seminarprogramm mit Verpflegung und Übernachtungen im Doppelzimmer), 90 Euro (beinhaltet das Seminarprogramm mit Verpflegung ohne Übernachtungen / Frühstück)

Anmeldeschluss: Freitag, 17. April (Die Zahl der Teilnehmerinnen und Teilnehmer ist auf 30 begrenzt)
VA-Nummer: KA-260629-1
Etwaige Ergänzungen des Programms werden rechtzeitig eingefügt. Änderungen des Programms behalten wir uns vor.
UID:
END:VEVENT
END:VCALENDAR