BEGIN:VCALENDAR
PRODID:-//Veranstaltung//EN
VERSION:2.0
CALSCALE:GREGORIAN
BEGIN:VEVENT
DTSTART;VALUE=DATE-TIME:20250521T090000
DTEND;VALUE=DATE-TIME:20250521T110000
SUMMARY:Academic Freedom and Freedom of Speech KAS4Security Round Table Event
LOCATION:Ottawa ON K1N 5S6
DESCRIPTION:
UID:
END:VEVENT
END:VCALENDAR