BEGIN:VCALENDAR
PRODID:-//Veranstaltung//EN
VERSION:2.0
CALSCALE:GREGORIAN
BEGIN:VEVENT
DTSTART;VALUE=DATE-TIME:20250508T000000
DTEND;VALUE=DATE-TIME:20250510T235959
SUMMARY:KAS COM
LOCATION:Bucuresti
DESCRIPTION:Încrederea poate fi construită doar prin transparență și comunicare constantă. Programul „KAS COM – Curs intensiv de comunicare instituțională și de criză” se concentrează exact pe acest aspect: oferim angajaților publici instrumentele și strategiile necesare pentru a susține și îmbunătăți discursul public.
UID:
END:VEVENT
END:VCALENDAR