BEGIN:VCALENDAR
PRODID:-//Veranstaltung//EN
VERSION:2.0
CALSCALE:GREGORIAN
BEGIN:VEVENT
DTSTART;VALUE=DATE-TIME:20250508T000000
DTEND;VALUE=DATE-TIME:20250508T235959
SUMMARY:CONMEMORACIÓN FIN II GUERRA MUNDIAL
LOCATION:
DESCRIPTION:La Fundación Konrad Adenauer (KAS) y el Instituto de Ciencia Política Hernán Echavarría Olózaga (ICP) tienen el gusto de invitarle al evento Defender la democracia: lecciones de la Segunda Guerra Mundial ante los desafíos geopolíticos actuales.
UID:
END:VEVENT
END:VCALENDAR