BEGIN:VCALENDAR
PRODID:-//Veranstaltung//EN
VERSION:2.0
CALSCALE:GREGORIAN
BEGIN:VEVENT
DTSTART;VALUE=DATE-TIME:20250610T190000
DTEND;VALUE=DATE-TIME:20250610T203000
SUMMARY:Dorfliebe in Simmerath
LOCATION:
DESCRIPTION:Wir machen mit unserer Tour Station in der Gaststätte "Zum Juppi" in Simmerath.
UID:
END:VEVENT
END:VCALENDAR