BEGIN:VCALENDAR
PRODID:-//Veranstaltung//EN
VERSION:2.0
CALSCALE:GREGORIAN
BEGIN:VEVENT
DTSTART;VALUE=DATE-TIME:20250424T000000
DTEND;VALUE=DATE-TIME:20250426T235959
SUMMARY:Medienunabhängigkeit und Demokratie in turbulenten Zeiten
LOCATION:
DESCRIPTION:
UID:
END:VEVENT
END:VCALENDAR