BEGIN:VCALENDAR
PRODID:-//Veranstaltung//EN
VERSION:2.0
CALSCALE:GREGORIAN
BEGIN:VEVENT
DTSTART;VALUE=DATE-TIME:20250703T000000
DTEND;VALUE=DATE-TIME:20250706T235959
SUMMARY:Louise-Weiss-Akademie 2025
LOCATION:
DESCRIPTION:Die Louise-Weiss-Akademie ist eine internationale Sommerschule, die sich dem Studium des Friedens in Europa und der Welt widmet und Begegnungen mit Wissenschaftlern, Diplomaten und Entscheidungsträgern, Workshops, Lesungen und Diskussionen miteinander verbindet. Die Akademie ist nach Louise Weiss benannt, um ihr intellektuelles und politisches Engagement für Frieden und europäische Einheit, für Menschenrechte und demokratische Prinzipien zu ehren.
UID:
END:VEVENT
END:VCALENDAR