BEGIN:VCALENDAR
PRODID:-//Veranstaltung//EN
VERSION:2.0
CALSCALE:GREGORIAN
BEGIN:VEVENT
DTSTART;VALUE=DATE-TIME:20250703T000000
DTEND;VALUE=DATE-TIME:20250706T235959
SUMMARY:Académie Louise Weiss 2025
LOCATION:
DESCRIPTION:L'Académie Louise Weiss est une école d'été internationale consacrée à l'étude de la paix en Europe et dans le monde, qui allie rencontres avec des chercheurs, des diplomates ou des décideurs, ateliers, lectures et débats. En donnant à l'Académie le nom de Louise Weiss, l'académie rends hommage à son engagement intellectuel et politique en faveur de la paix et de l'unité européenne, des droits de l'homme et des principes démocratiques.
UID:
END:VEVENT
END:VCALENDAR