BEGIN:VCALENDAR
PRODID:-//Veranstaltung//EN
VERSION:2.0
CALSCALE:GREGORIAN
BEGIN:VEVENT
DTSTART;VALUE=DATE-TIME:20251008T000000
DTEND;VALUE=DATE-TIME:20251009T235959
SUMMARY:Strategietreffen Mittelmeerraum 2025
LOCATION:
DESCRIPTION:Das Auslandsbüro Frankreich der Konrad-Adenauer-Stiftung freut sich, erneut Partner des Strategietreffens Mittelmeerraum zu sein, das zum vierten Mal von der Fondation méditerranéenne d'études stratégiques (FMES) organisiert wird. Das diesjährige Treffen findet am 8. und 9. Oktober im Palais Neptune in Toulon statt und bietet ein reichhaltiges Programm mit mehr als 13 Paneldiskussionen und 4 Vorträgen.
UID:
END:VEVENT
END:VCALENDAR