BEGIN:VCALENDAR
PRODID:-//Veranstaltung//EN
VERSION:2.0
CALSCALE:GREGORIAN
BEGIN:VEVENT
DTSTART;VALUE=DATE-TIME:20251008T000000
DTEND;VALUE=DATE-TIME:20251009T235959
SUMMARY:Rencontres Stratégiques de la Méditerranée 2025
LOCATION:
DESCRIPTION:Le bureau de la Fondation Konrad Adenauer en France est heureux d'être à nouveau partenaire des Rencontres stratégiques de la Méditerranée, organisées pour la quatrième fois par la Fondation méditerranéenne d'études stratégiques (FMES). Cette année, la rencontre se déroulera les 8 et 9 octobre au Palais Neptune à Toulon et proposera un programme riche de plus de 13 panels de discussion et 4 conférences.
UID:
END:VEVENT
END:VCALENDAR