BEGIN:VCALENDAR
PRODID:-//Veranstaltung//EN
VERSION:2.0
CALSCALE:GREGORIAN
BEGIN:VEVENT
DTSTART;VALUE=DATE-TIME:20250506T090000
DTEND;VALUE=DATE-TIME:20250507T180000
SUMMARY:II. Internationaler Journalismus-Kongress.
LOCATION:
DESCRIPTION:Der Journalismus steht vor einem seiner größten Kämpfe: frei, sicher und nachhaltig zu bleiben in einem zunehmend bedrohlichen Umfeld. Quito wird Gastgeber der zweiten Ausgabe des Internationalen Journalismus-Kongresses sein: „Demokratie vs. Organisierte Kriminalität“, ein Raum für Analyse und öffentliche Debatte, der herausragende Stimmen des nationalen und internationalen Journalismus zusammenbringt, um über die Rolle der Medien im Angesicht von Kriminalität, Desinformation und den demokratischen Herausforderungen Lateinamerikas zu reflektieren.
UID:
END:VEVENT
END:VCALENDAR