BEGIN:VCALENDAR
PRODID:-//Veranstaltung//EN
VERSION:2.0
CALSCALE:GREGORIAN
BEGIN:VEVENT
DTSTART;VALUE=DATE-TIME:20250506T090000
DTEND;VALUE=DATE-TIME:20250507T180000
SUMMARY:II. Congreso Internacional de Periodismo
LOCATION:
DESCRIPTION:El periodismo enfrenta una de sus mayores batallas: mantenerse libre, seguro y sostenible en un contexto cada vez más amenazante. Quito será sede de la segunda edición del Congreso Internacional de Periodismo: “Democracia vs. Crimen organizado”, un espacio de análisis y debate abierto al público, que reunirá a voces destacadas del periodismo nacional e internacional para reflexionar sobre el rol de los medios frente a la criminalidad, la desinformación y los desafíos democráticos de América Latina.
UID:
END:VEVENT
END:VCALENDAR