BEGIN:VCALENDAR
PRODID:-//Veranstaltung//EN
VERSION:2.0
CALSCALE:GREGORIAN
BEGIN:VEVENT
DTSTART;VALUE=DATE-TIME:20250723T000000
DTEND;VALUE=DATE-TIME:20250802T235959
SUMMARY:ROLE OF TRANSITIONAL JUSTICE IN REBUILDING HUMAN RIGHTS AND RULE OF LAW IN POST-CONFLICT SOCIETIES
LOCATION:
DESCRIPTION:International Summer School Sarajevo is dedicated to exploring the effect transition had on legal systems of SE European countries regarding their response to human rights challenges which were prevalent in the past. It will focus on transitional justice mechanisms as a holistic tool addressing these issues.

ISSS is participant oriented and designed to challenge all of them to engage with the lecturers as well as among themselves. The participants, being from all over the world and having outstanding backgrounds, make this summer school unique.

For more information please follow the link: https://pravnik-online.info/887-2/
UID:
END:VEVENT
END:VCALENDAR