BEGIN:VCALENDAR
PRODID:-//Veranstaltung//EN
VERSION:2.0
CALSCALE:GREGORIAN
BEGIN:VEVENT
DTSTART;VALUE=DATE-TIME:20250520T000000
DTEND;VALUE=DATE-TIME:20250520T235959
SUMMARY:70 years of Philippine-German Relations
LOCATION:
DESCRIPTION:Strategic cooperation is more urgent than ever as tensions rise in the Indo-Pacific. The Philippines and Germany, marking 70 years of diplomatic relations, are entering a new era of defense collaboration—committed to upholding a rules-based international order and ensuring peace in the West Philippine Sea.
UID:
END:VEVENT
END:VCALENDAR