BEGIN:VCALENDAR
PRODID:-//Veranstaltung//EN
VERSION:2.0
CALSCALE:GREGORIAN
BEGIN:VEVENT
DTSTART;VALUE=DATE-TIME:20250505T000000
DTEND;VALUE=DATE-TIME:20250505T235959
SUMMARY:Gemeinsam für Rechtsstaatlichkeit
LOCATION:
DESCRIPTION:Eine Ausweitung der deutsch-ecuadorianischen Kooperation im Rechtsstaatsbereich und die Herausforderungen Ecuadors beim Kampf gegen das organisierte Verbrechen – dies waren nur einige der Themen, die den Besuch von Prof. Dr. Stephan Harbarth in Quito bestimmten.  Highlights des von der KAS mitgestalteten Dialogprogramms waren ein Treffen der deutschen Delegation mit dem ecuadorianischen Verfassungsgericht sowie eine Vorlesung von Prof. Harbarth an der Universidad San Francisco.
UID:
END:VEVENT
END:VCALENDAR