BEGIN:VCALENDAR
PRODID:-//Veranstaltung//EN
VERSION:2.0
CALSCALE:GREGORIAN
BEGIN:VEVENT
DTSTART;VALUE=DATE-TIME:20250912T000000
DTEND;VALUE=DATE-TIME:20250913T235959
SUMMARY:Réinventer Schuman - 75 ans plus tard, l'Europe face à son avenir
LOCATION:
DESCRIPTION:
UID:
END:VEVENT
END:VCALENDAR