BEGIN:VCALENDAR
PRODID:-//Veranstaltung//EN
VERSION:2.0
CALSCALE:GREGORIAN
BEGIN:VEVENT
DTSTART;VALUE=DATE-TIME:20250509T100000
DTEND;VALUE=DATE-TIME:20250509T180000
SUMMARY:Tag der offenen Tür
LOCATION:
DESCRIPTION:Die Konrad-Adenauer-Stiftung (KAS) beteiligt sich mit großer Begeisterung am Tag der offenen Tür des Goethe-Instituts anlässlich des Europatages. Mit ihrer Teilnahme bekräftigt die KAS ihr Engagement für die Förderung des interkulturellen Dialogs und der Bildung und trägt so zu einer engeren Verbindung zwischen Europa und Venezuela bei. Wir freuen uns auf Ihr Kommen!
UID:
END:VEVENT
END:VCALENDAR