BEGIN:VCALENDAR
PRODID:-//Veranstaltung//EN
VERSION:2.0
CALSCALE:GREGORIAN
BEGIN:VEVENT
DTSTART;VALUE=DATE-TIME:20250610T180000
DTEND;VALUE=DATE-TIME:20250610T193000
SUMMARY:Forschungsnation China: Partner, Wettbewerber, Systemischer Rivale
LOCATION:Fulda
DESCRIPTION:China hat sich in den vergangenen zwei Jahrzehnten zu einer führenden Technologienation entwickelt und ist auf dem Weg zu einer globalen „Wissenschafts-Supermacht“. Obwohl die systemische Rivalität mit der Volksrepublik China immer stärker in den Mittelpunkt der öffentlichen Debatte rückt, darf auch die Rolle Chinas als wichtiger Partner nicht verkannt werden.
UID:
END:VEVENT
END:VCALENDAR