BEGIN:VCALENDAR
PRODID:-//Veranstaltung//EN
VERSION:2.0
CALSCALE:GREGORIAN
BEGIN:VEVENT
DTSTART;VALUE=DATE-TIME:20250506T000000
DTEND;VALUE=DATE-TIME:20250507T235959
SUMMARY:Amtsblatt II Internationale Journalismus-Kongress „Demokratie vs. Organisierte Kriminalität“
LOCATION:
DESCRIPTION:Die Konrad-Adenauer-Stiftung (KAS Ecuador) organisierte in Zusammenarbeit mit der Deutschen Botschaft, der Fundación Ciudadanía y Desarrollo (FCD), der Universidad Hemisferios (UHE) und dem Kommunikationsrat Ecuadors am 6. und 7. Mai 2025 in Quito erfolgreich die zweite Ausgabe des Internationalen Journalismus-Kongresses: „Demokratie vs. Organisierte Kriminalität“ .
UID:
END:VEVENT
END:VCALENDAR