BEGIN:VCALENDAR
PRODID:-//Veranstaltung//EN
VERSION:2.0
CALSCALE:GREGORIAN
BEGIN:VEVENT
DTSTART;VALUE=DATE-TIME:20250506T000000
DTEND;VALUE=DATE-TIME:20250507T235959
SUMMARY:Boletín Oficial II Congreso Internacional de Periodismo – “Democracia vs. Crimen Organizado”
LOCATION:
DESCRIPTION:La Fundación Konrad Adenauer (KAS Ecuador), en alianza con la Embajada de Alemania, la Fundación Ciudadanía y Desarrollo (FCD), la Universidad Hemisferios (UHE) y el Consejo de Comunicación del Ecuador, desarrolló con gran éxito la segunda edición del Congreso Internacional de Periodismo: “Democracia vs. Crimen Organizado”, el 6 y 7 de mayo de 2025, en la ciudad de Quito.
UID:
END:VEVENT
END:VCALENDAR