BEGIN:VCALENDAR
PRODID:-//Veranstaltung//EN
VERSION:2.0
CALSCALE:GREGORIAN
BEGIN:VEVENT
DTSTART;VALUE=DATE-TIME:20250625T000000
DTEND;VALUE=DATE-TIME:20250625T235959
SUMMARY:Post G7 Briefing - Pluralism, Security and the Future of Transatlantic Alliance Conference with CIC
LOCATION:
DESCRIPTION:This conference will explore the intersection of pluralism, security, and transatlantic partnerships in an evolving global order. Emphasizing Germany’s pivotal role within the European Union and its commitment to democratic values, the discussions will assess how Canada and Germany, as well as other G7 countries can collaborate to strengthen inclusive societies and enhance stability. Speakers to be announced.

Date & Time:
June 25, 2025
8:30AM to 5:00PM

Venue:
Global Centre for Pluralism
330 Sussex Drive, Ottawa, Ontario, K1N 0C7

Partners:
Global Centre for Pluralism
UID:
END:VEVENT
END:VCALENDAR