BEGIN:VCALENDAR
PRODID:-//Veranstaltung//EN
VERSION:2.0
CALSCALE:GREGORIAN
BEGIN:VEVENT
DTSTART;VALUE=DATE-TIME:20250612T000000
DTEND;VALUE=DATE-TIME:20250612T235959
SUMMARY:Neues Bundestagswahlrecht: Mandatslotterie oder konsequente Verhältniswahl?
LOCATION:
DESCRIPTION:Bei der letzten Bundestagswahl konnten aufgrund des neuen Wahlrechts 23 Wahlkreissieger nicht in den Bundestag einziehen, 5 davon aus Hessen. Ist das der Weisheit letzter Schluss? Wir laden wieder herzlich zusammen mit der EBS Universität nach Oestrich-Winkel ein, diskutieren Sie mit!
UID:
END:VEVENT
END:VCALENDAR