BEGIN:VCALENDAR
PRODID:-//Veranstaltung//EN
VERSION:2.0
CALSCALE:GREGORIAN
BEGIN:VEVENT
DTSTART;VALUE=DATE-TIME:20250515T000000
DTEND;VALUE=DATE-TIME:20250515T235959
SUMMARY:7th Budapest Public Finance Seminar
LOCATION:Budapest
DESCRIPTION:
UID:
END:VEVENT
END:VCALENDAR