BEGIN:VCALENDAR
PRODID:-//Veranstaltung//EN
VERSION:2.0
CALSCALE:GREGORIAN
BEGIN:VEVENT
DTSTART;VALUE=DATE-TIME:20250603T180000
DTEND;VALUE=DATE-TIME:20250603T235959
SUMMARY:Nach den Wahlen in Polen
LOCATION:
DESCRIPTION:Wir laden ein zum 51. #HessenKAS Online-Live bei Facebook und auf Instagram!
UID:
END:VEVENT
END:VCALENDAR