BEGIN:VCALENDAR
PRODID:-//Veranstaltung//EN
VERSION:2.0
CALSCALE:GREGORIAN
BEGIN:VEVENT
DTSTART;VALUE=DATE-TIME:20250604T190000
DTEND;VALUE=DATE-TIME:20250604T210000
SUMMARY:Die Rückkehr der Bombe
LOCATION:
DESCRIPTION:Die Welt spricht wieder über Atomwaffen. Mit jeder neuen Drohung aus Moskau rückt das Undenkbare wieder ins Bewusstsein. Viele fühlen sich deshalb an die Zeit des Kalten Krieges erinnert und Diskussionen über nukleare Abschreckung und Raketenabwehrschirme stehen wieder auf der Tagesordnung. Rüstungskontrolle und Abrüstungsbemühungen treten demgegenüber in den Hintergrund.
UID:
END:VEVENT
END:VCALENDAR