BEGIN:VCALENDAR
PRODID:-//Veranstaltung//EN
VERSION:2.0
CALSCALE:GREGORIAN
BEGIN:VEVENT
DTSTART;VALUE=DATE-TIME:20250617T000000
DTEND;VALUE=DATE-TIME:20250617T235959
SUMMARY:NATO in a World of Strategic Uncertainty
LOCATION:
DESCRIPTION:Im Vorfeld des bevorstehenden NATO-Gipfels in Den Haag brachte dieses Symposium Expertinnen und Experten zusammen, um die aktuelle Situation der NATO, ihre Rolle sowie die künftige Zusammenarbeit mit Japan und weiteren Partnern zu erörtern.
UID:
END:VEVENT
END:VCALENDAR