BEGIN:VCALENDAR
PRODID:-//Veranstaltung//EN
VERSION:2.0
CALSCALE:GREGORIAN
BEGIN:VEVENT
DTSTART;VALUE=DATE-TIME:20260626T160000
DTEND;VALUE=DATE-TIME:20260627T160000
SUMMARY:Im Einsatz für die Demokratie
LOCATION:
DESCRIPTION:Text
UID:
END:VEVENT
END:VCALENDAR