BEGIN:VCALENDAR
PRODID:-//Veranstaltung//EN
VERSION:2.0
CALSCALE:GREGORIAN
BEGIN:VEVENT
DTSTART;VALUE=DATE-TIME:20260918T160000
DTEND;VALUE=DATE-TIME:20260919T160000
SUMMARY:Menschen gewinnen, Vertrauen schaffen: Überzeugend auftreten in der Kommunalpolitik
LOCATION:
DESCRIPTION:Text
UID:
END:VEVENT
END:VCALENDAR