BEGIN:VCALENDAR
PRODID:-//Veranstaltung//EN
VERSION:2.0
CALSCALE:GREGORIAN
BEGIN:VEVENT
DTSTART;VALUE=DATE-TIME:20250625T000000
DTEND;VALUE=DATE-TIME:20250625T235959
SUMMARY:Islamismus und Salafismus in Deutschland: Eine aktuelle Lageanalyse
LOCATION:
DESCRIPTION:Islamistische und salafistische Strömungen stellen eine anhaltende Herausforderung für die innere Sicherheit und die freiheitlich-demokratische Grundordnung in Deutschland dar. Besonders die digitale Einflussnahme salafistischer Akteure auf junge Menschen mit Migrationsgeschichte birgt erhebliches Radikalisierungspotenzial – oft lange bevor es zu gewaltsamen Handlungen kommt.

Dr. Roland Johne, Leiter der Abteilung „Prävention und phänomenübergreifende Analyse“ im Landesamt für Verfassungsschutz, gibt einen fundierten Einblick in die ideologischen Grundlagen des Islamismus und Salafismus. Er erläutert zentrale Unterschiede zum Islam, beschreibt aktuelle Entwicklungen und zeigt anhand konkreter Beispiele, wie salafistische Agitation in sozialen Medien funktioniert – und warum frühzeitige Prävention entscheidend ist.
UID:
END:VEVENT
END:VCALENDAR