BEGIN:VCALENDAR
PRODID:-//Veranstaltung//EN
VERSION:2.0
CALSCALE:GREGORIAN
BEGIN:VEVENT
DTSTART;VALUE=DATE-TIME:20250528T000000
DTEND;VALUE=DATE-TIME:20250528T235959
SUMMARY:Stunde Null
LOCATION:Budapest
DESCRIPTION:Anlässlich des 80. Jahrestages des Endes des Zweiten Weltkriegs in Europa laden das Auslandsbüro der Konrad-Adenauer-Stiftung in Ungarn und das Komitee der Nationalen Erinnerung Sie herzlich zur Internationalen Konferenz mit dem Titel „STUNDE NULL – EIN NEUANFANG IN EUROPA“ ein.
UID:
END:VEVENT
END:VCALENDAR