BEGIN:VCALENDAR
PRODID:-//Veranstaltung//EN
VERSION:2.0
CALSCALE:GREGORIAN
BEGIN:VEVENT
DTSTART;VALUE=DATE-TIME:20250626T000000
DTEND;VALUE=DATE-TIME:20250712T235959
SUMMARY:Digitales Recht und die Herausforderungen der künstlichen Intelligenz
LOCATION:
DESCRIPTION:Die Konrad-Adenauer-Stiftung Venezuela, die Universidad Monteávila und das Rechtsstaatsprogramm für Lateinamerika freuen sich, Sie zur Teilnahme am Seminar „Digitales Recht und Herausforderungen der künstlichen Intelligenz“ einzuladen, einer Fortbildungsveranstaltung, die sich mit den ethischen, rechtlichen und regulatorischen Herausforderungen des heutigen digitalen Ökosystems befassen wird.
UID:
END:VEVENT
END:VCALENDAR