BEGIN:VCALENDAR
PRODID:-//Veranstaltung//EN
VERSION:2.0
CALSCALE:GREGORIAN
BEGIN:VEVENT
DTSTART;VALUE=DATE-TIME:20250626T000000
DTEND;VALUE=DATE-TIME:20250712T235959
SUMMARY:Derecho Digital y desafíos de la Inteligencia Artificial
LOCATION:
DESCRIPTION:La Konrad Adenauer Stiftung Venezuela, la Universidad Monteávila y el Programa Estado de Derecho para Latinoamérica tienen el gusto de invitarle a participar en el Seminario: Derecho Digital y Desafíos de la Inteligencia Artificial, un espacio formativo que abordará los retos éticos, legales y regulatorios del ecosistema digital contemporáneo.
UID:
END:VEVENT
END:VCALENDAR