BEGIN:VCALENDAR
PRODID:-//Veranstaltung//EN
VERSION:2.0
CALSCALE:GREGORIAN
BEGIN:VEVENT
DTSTART;VALUE=DATE-TIME:20250528T103000
DTEND;VALUE=DATE-TIME:20250522T235959
SUMMARY:Europe Day 2025
LOCATION:
DESCRIPTION:Konrad Adenauer Foundation (KAS) in cooperation with the European Movement in the Republic of North Macedonia and the Wilfried Martens Centre for European Studies is organizing a full-day event to mark Europe Day and the 25th anniversary of active engagement of KAS in the country. The event will take place on 28 May 2025 (Wednesday) from 11:00 in Ragusa Rooftop (Parking garage "26 July", St. Cyril and Methodius No. 1).
UID:
END:VEVENT
END:VCALENDAR