BEGIN:VCALENDAR
PRODID:-//Veranstaltung//EN
VERSION:2.0
CALSCALE:GREGORIAN
BEGIN:VEVENT
DTSTART;VALUE=DATE-TIME:20250717T183000
DTEND;VALUE=DATE-TIME:20250717T200000
SUMMARY:Dorfliebe in Geseke
LOCATION:
DESCRIPTION:Wir kommen mit unserer Dorfliebe in die Dorf-Z.I.E.G.E. nach Geseke.
UID:
END:VEVENT
END:VCALENDAR