BEGIN:VCALENDAR
PRODID:-//Veranstaltung//EN
VERSION:2.0
CALSCALE:GREGORIAN
BEGIN:VEVENT
DTSTART;VALUE=DATE-TIME:20250926T150000
DTEND;VALUE=DATE-TIME:20250928T123000
SUMMARY:Die Macht der Maschinen
LOCATION:Freiburg
DESCRIPTION:Kaum eine technische Innovation hat uns in den vergangenen Monaten so sehr beschäftigt, wie die Erfolge im Bereich der KI. Wir wollen diskutieren und ausprobieren - Was hat sich verändert? Wie geht es weiter? Wo lauern Gefahren? Was sind die Chancen?
UID:
END:VEVENT
END:VCALENDAR