BEGIN:VCALENDAR
PRODID:-//Veranstaltung//EN
VERSION:2.0
CALSCALE:GREGORIAN
BEGIN:VEVENT
DTSTART;VALUE=DATE-TIME:20250925T130000
DTEND;VALUE=DATE-TIME:20250925T235959
SUMMARY:Konflikte im Nahen- und Mittleren Osten. Ursachen und Lösungsmöglichkeiten
LOCATION:Eichwalde
DESCRIPTION:
UID:
END:VEVENT
END:VCALENDAR