BEGIN:VCALENDAR
PRODID:-//Veranstaltung//EN
VERSION:2.0
CALSCALE:GREGORIAN
BEGIN:VEVENT
DTSTART;VALUE=DATE-TIME:20250827T170000
DTEND;VALUE=DATE-TIME:20250827T200000
SUMMARY:An einem Tag im September
LOCATION:
DESCRIPTION:
UID:
END:VEVENT
END:VCALENDAR