BEGIN:VCALENDAR
PRODID:-//Veranstaltung//EN
VERSION:2.0
CALSCALE:GREGORIAN
BEGIN:VEVENT
DTSTART;VALUE=DATE-TIME:20250818T190000
DTEND;VALUE=DATE-TIME:20250818T235959
SUMMARY:Rechtsstaatlichkeit als Sicherheitsfaktor in EU-Beitrittsländern
LOCATION:Frankfurt am Main
DESCRIPTION:Welche Rolle spielt Rechtsstaatlichkeit im Bereich der Sicherheit und wie ist der aktuelle Stand in den EU-Beitrittsländern? Wir freuen uns auf den Besuch von Dr. Pavel Usvatov, Leiter des Rechtsstaatsprogramms Südosteuropa der Konrad-Adenauer-Stiftung e.V. mit Sitz in Bukarest/Rumänien.
UID:
END:VEVENT
END:VCALENDAR