BEGIN:VCALENDAR
PRODID:-//Veranstaltung//EN
VERSION:2.0
CALSCALE:GREGORIAN
BEGIN:VEVENT
DTSTART;VALUE=DATE-TIME:20251210T000000
DTEND;VALUE=DATE-TIME:20251210T235959
SUMMARY:Promouvoir la compétitivité et la sécurité énergétique par la décarbonisation
LOCATION:Paris
DESCRIPTION:
UID:
END:VEVENT
END:VCALENDAR